BEGIN:VCALENDAR
VERSION:2.0
PRODID:-//Jewish Museum of Maryland - ECPv6.15.20//NONSGML v1.0//EN
CALSCALE:GREGORIAN
METHOD:PUBLISH
X-ORIGINAL-URL:https://jewishmuseummd.org
X-WR-CALDESC:Events for Jewish Museum of Maryland
REFRESH-INTERVAL;VALUE=DURATION:PT1H
X-Robots-Tag:noindex
X-PUBLISHED-TTL:PT1H
BEGIN:VTIMEZONE
TZID:America/New_York
BEGIN:DAYLIGHT
TZOFFSETFROM:-0500
TZOFFSETTO:-0400
TZNAME:EDT
DTSTART:20240310T070000
END:DAYLIGHT
BEGIN:STANDARD
TZOFFSETFROM:-0400
TZOFFSETTO:-0500
TZNAME:EST
DTSTART:20241103T060000
END:STANDARD
BEGIN:DAYLIGHT
TZOFFSETFROM:-0500
TZOFFSETTO:-0400
TZNAME:EDT
DTSTART:20250309T070000
END:DAYLIGHT
BEGIN:STANDARD
TZOFFSETFROM:-0400
TZOFFSETTO:-0500
TZNAME:EST
DTSTART:20251102T060000
END:STANDARD
BEGIN:DAYLIGHT
TZOFFSETFROM:-0500
TZOFFSETTO:-0400
TZNAME:EDT
DTSTART:20260308T070000
END:DAYLIGHT
BEGIN:STANDARD
TZOFFSETFROM:-0400
TZOFFSETTO:-0500
TZNAME:EST
DTSTART:20261101T060000
END:STANDARD
END:VTIMEZONE
BEGIN:VEVENT
DTSTART;TZID=America/New_York:20251109T130000
DTEND;TZID=America/New_York:20251109T140000
DTSTAMP:20260422T100806
CREATED:20250724T161353Z
LAST-MODIFIED:20250724T161524Z
UID:10000026-1762693200-1762696800@jewishmuseummd.org
SUMMARY:Picturing Past & Present: Sharing Our Stories
DESCRIPTION:The Jewish Museum of Maryland is proud to host a public program amplifying its new installation\, Picturing Past & Present. This initiative invites Jewish Marylanders to share three family photos that tell their stories and contribute to the narrative of Jewish life in Maryland. Picturing Past & Present: Sharing Our Stories will feature participants sharing personal family histories and the meaning behind their photographs. Open to all\, the program celebrates storytelling and invites attendees to reflect\, connect\, and contribute their own stories to the rich tapestry of Jewish life in Maryland.
URL:https://jewishmuseummd.org/event/picturing-past-present-sharing-our-stories-8/
LOCATION:Jewish Museum of Maryland
CATEGORIES:Programs
ATTACH;FMTTYPE=image/png:https://jewishmuseummd.org/wp-content/uploads/2025/01/20240208_0164-removebg.png
END:VEVENT
BEGIN:VEVENT
DTSTART;TZID=America/New_York:20251116T130000
DTEND;TZID=America/New_York:20251116T150000
DTSTAMP:20260422T100806
CREATED:20251027T182507Z
LAST-MODIFIED:20251104T203352Z
UID:10000036-1763298000-1763305200@jewishmuseummd.org
SUMMARY:Upon Thy Gates: Reception + Marking Passages Launch
DESCRIPTION:Join the Jewish Museum of Maryland for an afternoon celebrating the opening of Upon Thy Gates\, an exhibition presenting mezuzahs from around the world featured in the Elaine K. and Norman Winik Mezuzah Collection together with a selection of mezuzahs from JMM’s own collections. Learn how you can participate in Marking Passages: Mezuzah-Inspired Stories\, JMM’s new production studio project in partnership with The Stoop\, a live storytelling series and WYPR podcast. \nPlacing a mezuzah on a doorpost is among the most ancient of Jewish traditions. Each ritual case holds a scroll inscribed with the Shema prayer. Mezuzahs are considered amuletic by many and signal that the structure they adorn holds a Jewish space. They mark departures and homecomings\, and serve as touchstones for reflection along personal journeys. \nElaine K. and Norman Winik collected mezuzahs throughout their travels to many Jewish communities. The exhibition Upon Thy Gates\, on loan from the Oregon Jewish Museum and Center for Holocaust Education\, and curated by Kenneth Helphand\, highlights 73 of these mezuzahs showcasing an eclectic range of styles\, materials and Jewish symbols found in mezuzahs\, including from Denmark\, England\, Ethiopia\, Germany\, Holland\, India\, Iran\, Israel\, Italy\, Morocco\, Poland\, the United States\, and Yemen. The mezuzahs date from the late 18th century to the work of contemporary artists. \nThis exhibition was produced by the Oregon Jewish Museum and Center for Holocaust Education. \nIn connection to the exhibition\, JMM is delighted to launch Marking Passages: Mezuzah-Inspired Stories\, a new JMM production studio project in partnership with The Stoop\, named for the Baltimore tradition of sharing stories on the signature marble entryway steps across the City. The Museum invites participants to share a story inspired by what mezuzahs evoke for you! Select stories from this storytelling project collecting initiative will be presented at a culminating live event at the Museum in Spring 2026. \nAttendees will have the opportunity to experience the exhibition in JMM’s new Long Gallery\, learn about the Maryland mezuzahs from the Museum’s Collections\, and find out how to submit their personal stories in connection to mezuzahs. Plus\, visit the Museum’s recently opened audio/visual production studio\, and take home a copy of Mezuzah Magic!\, a comic strip about mezuzahs created by JMM Public Art Coordinator Naomi Rose Weintraub. \nKosher refreshments will be served. \nAdmission to this program is free with admission to the Museum. \nAccessibility: The Museum building\, including the family and all-gender single-stall bathroom\, is wheelchair accessible. Masks are welcome but not required. Complimentary masks will be available for anyone who would like one. Noise-reducing headphones and earplugs are available upon request at the front desk. American Sign Language (ASL) interpretation will be provided–please reach out if there are additional accessibility supports that you need. \nParking: There is street parking available in the neighborhood. \nFor questions\, please contact info@jewishmuseummd.org or 410.732.6400.
URL:https://jewishmuseummd.org/event/upon-thy-gates-opening-marking-passages-launch/
LOCATION:Jewish Museum of Maryland
CATEGORIES:Programs
ATTACH;FMTTYPE=image/jpeg:https://jewishmuseummd.org/wp-content/uploads/2025/10/Latest-version-cropped.jpg
END:VEVENT
END:VCALENDAR