BEGIN:VCALENDAR
VERSION:2.0
PRODID:-//Jewish Museum of Maryland - ECPv6.15.20//NONSGML v1.0//EN
CALSCALE:GREGORIAN
METHOD:PUBLISH
X-ORIGINAL-URL:https://jewishmuseummd.org
X-WR-CALDESC:Events for Jewish Museum of Maryland
REFRESH-INTERVAL;VALUE=DURATION:PT1H
X-Robots-Tag:noindex
X-PUBLISHED-TTL:PT1H
BEGIN:VTIMEZONE
TZID:America/New_York
BEGIN:DAYLIGHT
TZOFFSETFROM:-0500
TZOFFSETTO:-0400
TZNAME:EDT
DTSTART:20250309T070000
END:DAYLIGHT
BEGIN:STANDARD
TZOFFSETFROM:-0400
TZOFFSETTO:-0500
TZNAME:EST
DTSTART:20251102T060000
END:STANDARD
BEGIN:DAYLIGHT
TZOFFSETFROM:-0500
TZOFFSETTO:-0400
TZNAME:EDT
DTSTART:20260308T070000
END:DAYLIGHT
BEGIN:STANDARD
TZOFFSETFROM:-0400
TZOFFSETTO:-0500
TZNAME:EST
DTSTART:20261101T060000
END:STANDARD
BEGIN:DAYLIGHT
TZOFFSETFROM:-0500
TZOFFSETTO:-0400
TZNAME:EDT
DTSTART:20270314T070000
END:DAYLIGHT
BEGIN:STANDARD
TZOFFSETFROM:-0400
TZOFFSETTO:-0500
TZNAME:EST
DTSTART:20271107T060000
END:STANDARD
END:VTIMEZONE
BEGIN:VEVENT
DTSTART;TZID=America/New_York:20260517T170000
DTEND;TZID=America/New_York:20260517T190000
DTSTAMP:20260423T045620
CREATED:20260405T171533Z
LAST-MODIFIED:20260422T185617Z
UID:10000043-1779037200-1779044400@jewishmuseummd.org
SUMMARY:Chavruta: Let’s Learn Together!
DESCRIPTION:Celebrate the joy–and fun–of learning together with the Jewish Museum of Maryland at our 2026/5786 Annual Celebration and experience an evening of shared exploration\, discovery\, and connection! \nInspired by the Jewish tradition of chavruta study partnerships\, JMM invites you to a night of experiential learning–whether that’s playing a game of table tennis\, delving into Maryland’s Jewish history and culture\, or exploring artful Jewish ritual objects from around the world–together. \nCatch highlights of JMM’s work over the past year\, recognize student essay contest winners of the Second Annual Identity and Political Participation in the U.S. Essay Contest\, a partnership between JMM\, the Associated Jewish Community Federation\, and the Thomas Kennedy Center\, reflecting on the lasting impact of Maryland’s 1826 “Jew Bill.” \nThrough interactive paired learning\, attendees will have an opportunity to share ideas back-and-forth in Open Court: Ping-Pong Pop-Up gallery installation\, reflect on history in the new core exhibition Jews of Maryland at the Crossroads of Identity\, draw inspiration from the mezuzah collections within Upon Thy Gates exhibition\, tap into the knowledge held in JMM’s collections\, learn all about the Museum’s audio/video production studio and more. \n5:00 PM | Celebration Opening \n5:15 PM |  Highlights Presentation \n5:45 PM | Chavruta Partnered Learning Experience  \n6:15 PM | Mystery Ping-Pong Match-up followed by a Heavy Hors D’oeuvres Reception \n  \nAlcoholic beverages will be served. \nAccessibility: The Museum building\, including the family and all-gender single-stall bathroom\, is wheelchair accessible. Masks are welcome but not required. Complimentary masks will be available for anyone who would like one. Noise-reducing headphones and earplugs are available upon request at the front desk. American Sign Language (ASL) interpretation will be available for the formal presentation elements of the program. Please reach out to our team if you have additional accessibility needs. \nParking: Street-side parking is available. Please be sure to check the parking signs when you park on the street. We do not currently recommend using the Housing Authority of Baltimore City-owned parking lot directly across the street from the main Museum building entrance. The lot is actively surveilled for parking violations. \nFor questions\, please contact info@jewishmuseummd.org or 410.732.6400. \n 
URL:https://jewishmuseummd.org/event/2026-annual-meeting/
LOCATION:Jewish Museum of Maryland
CATEGORIES:Programs
END:VEVENT
BEGIN:VEVENT
DTSTART;TZID=America/New_York:20260607T183000
DTEND;TZID=America/New_York:20260607T193000
DTSTAMP:20260423T045620
CREATED:20260405T171937Z
LAST-MODIFIED:20260405T172006Z
UID:10000044-1780857000-1780860600@jewishmuseummd.org
SUMMARY:Lecture with Eric Goldstein
DESCRIPTION:On Sunday\, June 7\, the Jewish Museum of Maryland will host a lecture with Dr. Eric Goldstein\, Associate Professor at Emory University and author of On Middle Ground and The Price of Whiteness: Jews\, Race\, and American Identity. \nCheck back soon for more information! \n 
URL:https://jewishmuseummd.org/event/lecture-with-eric-goldstein/
LOCATION:Jewish Museum of Maryland
CATEGORIES:Programs
END:VEVENT
END:VCALENDAR