BEGIN:VCALENDAR
VERSION:2.0
PRODID:-//Jewish Museum of Maryland - ECPv6.15.20//NONSGML v1.0//EN
CALSCALE:GREGORIAN
METHOD:PUBLISH
X-WR-CALNAME:Jewish Museum of Maryland
X-ORIGINAL-URL:https://jewishmuseummd.org
X-WR-CALDESC:Events for Jewish Museum of Maryland
REFRESH-INTERVAL;VALUE=DURATION:PT1H
X-Robots-Tag:noindex
X-PUBLISHED-TTL:PT1H
BEGIN:VTIMEZONE
TZID:America/New_York
BEGIN:DAYLIGHT
TZOFFSETFROM:-0500
TZOFFSETTO:-0400
TZNAME:EDT
DTSTART:20240310T070000
END:DAYLIGHT
BEGIN:STANDARD
TZOFFSETFROM:-0400
TZOFFSETTO:-0500
TZNAME:EST
DTSTART:20241103T060000
END:STANDARD
BEGIN:DAYLIGHT
TZOFFSETFROM:-0500
TZOFFSETTO:-0400
TZNAME:EDT
DTSTART:20250309T070000
END:DAYLIGHT
BEGIN:STANDARD
TZOFFSETFROM:-0400
TZOFFSETTO:-0500
TZNAME:EST
DTSTART:20251102T060000
END:STANDARD
BEGIN:DAYLIGHT
TZOFFSETFROM:-0500
TZOFFSETTO:-0400
TZNAME:EDT
DTSTART:20260308T070000
END:DAYLIGHT
BEGIN:STANDARD
TZOFFSETFROM:-0400
TZOFFSETTO:-0500
TZNAME:EST
DTSTART:20261101T060000
END:STANDARD
BEGIN:DAYLIGHT
TZOFFSETFROM:-0500
TZOFFSETTO:-0400
TZNAME:EDT
DTSTART:20270314T070000
END:DAYLIGHT
BEGIN:STANDARD
TZOFFSETFROM:-0400
TZOFFSETTO:-0500
TZNAME:EST
DTSTART:20271107T060000
END:STANDARD
BEGIN:DAYLIGHT
TZOFFSETFROM:-0500
TZOFFSETTO:-0400
TZNAME:EDT
DTSTART:20280312T070000
END:DAYLIGHT
BEGIN:STANDARD
TZOFFSETFROM:-0400
TZOFFSETTO:-0500
TZNAME:EST
DTSTART:20281105T060000
END:STANDARD
BEGIN:DAYLIGHT
TZOFFSETFROM:-0500
TZOFFSETTO:-0400
TZNAME:EDT
DTSTART:20290311T070000
END:DAYLIGHT
BEGIN:STANDARD
TZOFFSETFROM:-0400
TZOFFSETTO:-0500
TZNAME:EST
DTSTART:20291104T060000
END:STANDARD
BEGIN:DAYLIGHT
TZOFFSETFROM:-0500
TZOFFSETTO:-0400
TZNAME:EDT
DTSTART:20300310T070000
END:DAYLIGHT
BEGIN:STANDARD
TZOFFSETFROM:-0400
TZOFFSETTO:-0500
TZNAME:EST
DTSTART:20301103T060000
END:STANDARD
BEGIN:DAYLIGHT
TZOFFSETFROM:-0500
TZOFFSETTO:-0400
TZNAME:EDT
DTSTART:20310309T070000
END:DAYLIGHT
BEGIN:STANDARD
TZOFFSETFROM:-0400
TZOFFSETTO:-0500
TZNAME:EST
DTSTART:20311102T060000
END:STANDARD
BEGIN:DAYLIGHT
TZOFFSETFROM:-0500
TZOFFSETTO:-0400
TZNAME:EDT
DTSTART:20320314T070000
END:DAYLIGHT
BEGIN:STANDARD
TZOFFSETFROM:-0400
TZOFFSETTO:-0500
TZNAME:EST
DTSTART:20321107T060000
END:STANDARD
BEGIN:DAYLIGHT
TZOFFSETFROM:-0500
TZOFFSETTO:-0400
TZNAME:EDT
DTSTART:20330313T070000
END:DAYLIGHT
BEGIN:STANDARD
TZOFFSETFROM:-0400
TZOFFSETTO:-0500
TZNAME:EST
DTSTART:20331106T060000
END:STANDARD
BEGIN:DAYLIGHT
TZOFFSETFROM:-0500
TZOFFSETTO:-0400
TZNAME:EDT
DTSTART:20340312T070000
END:DAYLIGHT
BEGIN:STANDARD
TZOFFSETFROM:-0400
TZOFFSETTO:-0500
TZNAME:EST
DTSTART:20341105T060000
END:STANDARD
BEGIN:DAYLIGHT
TZOFFSETFROM:-0500
TZOFFSETTO:-0400
TZNAME:EDT
DTSTART:20350311T070000
END:DAYLIGHT
BEGIN:STANDARD
TZOFFSETFROM:-0400
TZOFFSETTO:-0500
TZNAME:EST
DTSTART:20351104T060000
END:STANDARD
BEGIN:DAYLIGHT
TZOFFSETFROM:-0500
TZOFFSETTO:-0400
TZNAME:EDT
DTSTART:20360309T070000
END:DAYLIGHT
BEGIN:STANDARD
TZOFFSETFROM:-0400
TZOFFSETTO:-0500
TZNAME:EST
DTSTART:20361102T060000
END:STANDARD
END:VTIMEZONE
BEGIN:VEVENT
DTSTART;VALUE=DATE:20250202
DTEND;VALUE=DATE:20350203
DTSTAMP:20260421T083605
CREATED:20241122T130948Z
LAST-MODIFIED:20241223T170638Z
UID:10000008-1738454400-2054073599@jewishmuseummd.org
SUMMARY:Picturing Past + Present
DESCRIPTION:Picturing Past + Present premiers in February 2025.  \nAre you a Jewish Marylander? You can contribute to the project here and see your own story represented at JMM!
URL:https://jewishmuseummd.org/event/picturing-past-present-exhibit/
CATEGORIES:Exhibits
ATTACH;FMTTYPE=image/png:https://jewishmuseummd.org/wp-content/uploads/2024/11/TITLE-bleed-R.B.png
END:VEVENT
BEGIN:VEVENT
DTSTART;TZID=America/New_York:20250903T190000
DTEND;TZID=America/New_York:20250903T210000
DTSTAMP:20260421T083605
CREATED:20250818T172056Z
LAST-MODIFIED:20250828T134148Z
UID:10000030-1756926000-1756933200@jewishmuseummd.org
SUMMARY:Bad Shabbos: Movie Screening and Q+A
DESCRIPTION:***This event has reached capacity. This page will be updated if additional tickets become available.*** \nJoin the Jewish Museum of Maryland for an intimate evening of film and conversation in the Museum’s transformed space featuring the smash hit comedy of the summer\, Bad Shabbos. The story follows David and his fiancée Meg who are about to have their parents meet for the first time over a Shabbat dinner on New York’s Upper West Side when an accidental death (or murder?!) gets in the way. With Meg’s Catholic parents due any moment\, this family dinner soon spirals into a hilarious disaster. \nWatch the trailer here. \nSchmooze\, see the movie\, and catch a Q&A with the film’s co-writer\, Zack Weiner. \nThis event is free\, but space is limited—reserve your spot today. \nMore event information coming soon!
URL:https://jewishmuseummd.org/event/bad-shabbos-movie-screening-and-qa/
CATEGORIES:Programs
ATTACH;FMTTYPE=image/png:https://jewishmuseummd.org/wp-content/uploads/2025/08/MH-edits-Space-filled.png
END:VEVENT
BEGIN:VEVENT
DTSTART;TZID=America/New_York:20250914T170000
DTEND;TZID=America/New_York:20250914T190000
DTSTAMP:20260421T083605
CREATED:20250729T203132Z
LAST-MODIFIED:20250818T164107Z
UID:10000028-1757869200-1757876400@jewishmuseummd.org
SUMMARY:Modernisms Curator Conversation
DESCRIPTION:Join the Jewish Museum of Maryland for an evening exploring Modernisms\, curated by J. Susan Isaacs and presenting the work of artists responding to modernist ideas with a broad range of approaches. Featured artists include Florence H. Austrian\, Jacob Glushakow\, Gladys Goldstein\, Mervin Jules\, Reuben Kramer\, Perna Krick\, Herman Maril\, Karl Metzler\, Selma L. Oppenheimer\, Amalie Rothschild\, Aaron Sopher\, Edward Rosenfeld\, and Peter Scholleck\, largely from JMM’s collection. Their views were shaped by the new prevailing theories that emerged in Europe: Post Impressionism\, Fauvism\, German Expressionism\, Cubism\, Art Deco\, Surrealism\, and Bauhaus. Artist Jacob Glushakow described many of the practitioners within this group as “a school of Baltimore Jewish artists” that flourished for thirty years.  \nAttendees will have the opportunity to explore the exhibition in JMM’s Cohen-Weinberg Gallery\, hear a conversation with JMM Exhibits Manager Katie Andril\, exhibition curator J. Susan Isaacs\, and educator George Ciscle\, as well as visit the Museum’s recently opened production studio to share personal reflections in connection to the exhibition. \nKatie Andril is Exhibits Manager at the Jewish Museum of Maryland\, responsible for exhibition logistics and project management. Previously\, she has worked at U.S. Art Company\, at Framebridge’s Fine Art Department; and earlier held multiple roles including Assistant Director & Solo Artist Coordinator at The Art League\, a community arts organization in Alexandria\, Virginia.  \nSusan Isaacs is retired from teaching art history and museum studies at Towson University\, where she curated many exhibitions for the Department of Art + Design\, Art History\, and Art Education Galleries. She has curated for numerous institutions across the United States and abroad. She writes and publishes on modern and contemporary art.  \nGeorge Ciscle has mounted groundbreaking exhibitions and taught courses in the fine arts and humanities for more than 50 years. After two decades of work as an educator and gallerist focused on promoting the careers of emerging artists\, Ciscle founded The Contemporary\, an “un-museum\,” which challenged existing conventions for exhibiting art. \nKosher refreshments\, beer\, and wine will be served. \nAdmission is free and open to the public. \nAccessibility: The Museum building\, including the family and all-gender single-stall bathroom\, is wheelchair accessible. Masks are welcome but not required. Complimentary masks will be available for anyone who would like one. Noise-reducing headphones and earplugs are available upon request at the front desk. American Sign Language (ASL) interpretation\, live captioning\, and livestreaming will be available. Please register for access to the livestream link.  \nParking: There is street parking available in the neighborhood. \nFor questions\, please contact nmitchel@jewishmuseummd.org or 443.873.5178.
URL:https://jewishmuseummd.org/event/modernisms-opening-night/
LOCATION:Jewish Museum of Maryland
CATEGORIES:Programs
ATTACH;FMTTYPE=image/jpeg:https://jewishmuseummd.org/wp-content/uploads/2025/08/Image-13-e1764013548582.jpg
END:VEVENT
END:VCALENDAR